BEGIN:VCALENDAR
VERSION:2.0
PRODID:https://github.com/derhansen/sf_event_mgt
METHOD:PUBLISH
BEGIN:VEVENT
UID:288-6312@www.hs-emden-leer.de
CLASS: PUBLIC
SUMMARY:Startup-Kai
DESCRIPTION:Du hast eine Idee für ein Startup, aber kein Geschäftsmodell?\n
 \nDer MeerCommunity Startup-Kai ist dann genau richtig für dich! Als Geschä
 ftsmodell-Bootcamp richtet er sich an Studierende, wissenschaftliche Mitarb
 eitende und Angestellte der Hochschule Emden/Leer, die ihre Projekte in die
  Tat umsetzen wollen.\n\nZiel ist es, nach acht Wochen ein Geschäftsmodell 
 für dein Projekt ausgearbeitet zu haben. Zusätzlich helfen wir dir, dich fü
 r das EXIST-Gründerstipendium (bis zu 3.000 Euro/ Monat für ein Jahr) zu be
 werben.\n\nIn den acht Workshops wirst du:\n\n 	Das richtige Gründer*innenm
 indset kennen und erleben lernen 	Startup-Tools erhalten, die dir helfen de
 ine Zielgruppe besser zu verstehen 	In Kontakt mit einer EXIST-Beraterin tr
 eten, damit du dich auf das Stipendium in kürzester Zeit bewerben kannst 	G
 ründer*innen und Netzwerkpartner*innen kennenlernen und von Ihren Erfahrung
 en profitieren 	Ein Abschlusszertifikat erhalten und Projektpunkte (FB Wirt
 schaft) sammeln können \n\nHöhepunkt wird ein Pitch-Event sein, wo du deine
  Idee einer Jury aus Netzwerkpartner*innen präsentieren kannst.\n\nWir habe
 n Platz für 20 Teilnehmende, also bewirb dich  hier  bis zum 03. Oktober!\n
 \nWir freuen uns auf deine Geschäftsidee!\n\nFranzi & Kai & Anna
DTSTAMP:20211001T103646Z
DTSTART:20211011T140000Z
DTEND:20211011T180000Z
END:VEVENT
END:VCALENDAR
