BEGIN:VCALENDAR
VERSION:2.0
PRODID:https://github.com/derhansen/sf_event_mgt
METHOD:PUBLISH
BEGIN:VEVENT
UID:266-5419@www.hs-emden-leer.de
CLASS: PUBLIC
SUMMARY:„Stärken stärken, Schwächen schwächen!“ Resilienz im Berufseinstieg
DESCRIPTION:Es gibt Menschen, die trotz Misserfolge den Kopf nicht wie Voge
 l Strauß in den Sand stecken. Sie erholen sich schnell von Rückschlägen und
  gehen sogar gestärkt aus Krisen hervor. Diese innere Stärke, belastende Si
 tuationen unbeschadet zu über-stehen, bezeichnet man als Resilienz. Zum Glü
 ck ist Resilienz erlernbar! \n\nDieser Online-Workshop setzt den Fokus auf 
 die Herausforderungen, mit denen Sie sich als Berufseinsteiger:innen konfro
 ntiert sehen. Sie erfahren das Wesentliche zur Resilienz und wie Sie Ihre p
 ersönlichen Ressourcen nutzen können. Somit bleiben Sie trotz neuer berufli
 cher Anforderungen und komplexer Arbeitsbedingungen leistungsfähig und gela
 ssen! Sie erhalten Impulse, wie Sie Ihre Stärken, Schritt für Schritt, weit
 erentwickeln können, damit Sie auch im Business bestehen. Der Workshop find
 et als Live-Online-Setting mit abwechselnden Selbstlernphasen statt. \n\nIh
 r Nutzen: \n\n 	Sie lernen die sieben Resilienzfaktoren kennen und wie Sie 
 diese stabilisieren können.  	Sie erfahren, wie Sie Ihre individuelle Wider
 standskraft, insbesondere für Ihren beruflichen Start, stärken.  	Sie könne
 n anstehende belastende Situationen souveräner und gelassener meistern. 
LOCATION:Online
DTSTAMP:20210804T074341Z
DTSTART:20211102T123000Z
DTEND:20211102T163000Z
END:VEVENT
END:VCALENDAR
