BEGIN:VCALENDAR
VERSION:2.0
PRODID:https://github.com/derhansen/sf_event_mgt
METHOD:PUBLISH
BEGIN:VEVENT
UID:365-177@www.hs-emden-leer.de
CLASS: PUBLIC
SUMMARY:Spendenlauf
DESCRIPTION:Gemeinsam für die Ukraine: Unsere Hochschule veranstaltet am ko
 mmenden Mittwoch, 9. März, einen großen Spendenlauf. Mit dem Erlös möchten 
 wir die vom Krieg betroffenen Menschen in der Ukraine unterstützen.\n\nDer 
 Lauf startet um 18.30 Uhr vor der Mensa und führt einmal um den Friesenhüge
 l und zurück (5 Kilometer). Die Teilnahme kostet fünf Euro. Anmeldungen kön
 nen ab 16 Uhr auf dem Vorplatz der Mensa erfolgen. Die ersten 500 LäuferInn
 en erhalten eine Mütze in den Farben der ukrainischen Flagge.\n\nAnmeldunge
 n sind unter spendenlauf@hs-emden-leer.de möglich.\n\nIhr möchtet spenden, 
 aber nicht laufen?\n\nKein Problem!\n\nSpendenkonto:\n\nFörderkreis Hochsch
 ule in Ostfriesland e.V.\n\nDE19 2845 0000 0000 0180 10\n\nVerwendungszweck
 : Spendenlauf Ukraine\n\nWeitere Informationen gibt es unter https://bit.ly
 /3Ml5zWe.
LOCATION:Campus Emden
DTSTAMP:20220308T135142Z
DTSTART:20220309T183000Z
DTEND:20220309T210000Z
END:VEVENT
END:VCALENDAR
