BEGIN:VCALENDAR
VERSION:2.0
PRODID:https://github.com/derhansen/sf_event_mgt
METHOD:PUBLISH
BEGIN:VEVENT
UID:552-5425@www.hs-emden-leer.de
CLASS: PUBLIC
SUMMARY:Sign on! - See a career
DESCRIPTION:Unter dem Motto „Sign on! - See a Career“ sind alle Studierende
 n des Fachbereichs Seefahrt und Maritime Wissenschaften herzlich eingeladen
 , sich am Donnerstag, 11.Mai, in der Zeit von 9:00 bis 15 Uhr mit Arbeitgeb
 ern der maritimen Branche über berufliche Möglichkeiten auszutauschen.\n\nF
 ür diesen Tag laden wir auch in diesem Jahr wieder zahlreiche interessante 
 Unternehmen und Institutionen aus den unterschiedlichsten Sparten der marit
 imen Branche ein, um sich am maritimen Campus in Leer zu präsentieren. Die 
 Veranstaltung richtet sich an alle Studierenden des Fachbereichs.\n\nBei Fr
 agen zur Veranstaltung bitte an Cornelia Beelmann (Tel.: 0491 92817 5024, M
 ail: cornelia.beelmann@hs-emden-leer.de) wenden.
LOCATION:Maritimer Campus Leer
DTSTAMP:20251026T234120Z
DTSTART:20230511T070000Z
DTEND:20230511T130000Z
END:VEVENT
END:VCALENDAR
