BEGIN:VCALENDAR
VERSION:2.0
PRODID:https://github.com/derhansen/sf_event_mgt
METHOD:PUBLISH
BEGIN:VEVENT
UID:440-5429@www.hs-emden-leer.de
CLASS: PUBLIC
SUMMARY:Senatssitzung
DESCRIPTION:
DTSTAMP:20220513T095252Z
DTSTART:20220614T120000Z
DTEND:20220614T160000Z
END:VEVENT
END:VCALENDAR
