BEGIN:VCALENDAR
VERSION:2.0
PRODID:https://github.com/derhansen/sf_event_mgt
METHOD:PUBLISH
BEGIN:VEVENT
UID:213-5429@www.hs-emden-leer.de
CLASS: PUBLIC
SUMMARY:Senatssitzung
DESCRIPTION:Meeting-Link:\n\nhttps://hs-emden-leer.webex.com/hs-emden-leer-
 de/j.php?MTID=m851f93bcdfda9a47e83939352a86ac24Meeting-Kennnummer:163 965 1
 326Passwort: NPnAyPq3w33
DTSTAMP:20210624T111452Z
DTSTART:20210629T120000Z
DTEND:20210629T160000Z
END:VEVENT
END:VCALENDAR
