BEGIN:VCALENDAR
VERSION:2.0
PRODID:https://github.com/derhansen/sf_event_mgt
METHOD:PUBLISH
BEGIN:VEVENT
UID:319-5417@www.hs-emden-leer.de
CLASS: PUBLIC
SUMMARY:Sei dabei! Nachhaltigkeit & Soziale Verantwortung - Konkretisierung
DESCRIPTION:Unsere Hochschule muss Nachhaltigkeit & Soziale Verantwortung g
 roß schreiben!\n\nDas war die Forderung aus der Studierendenumfrage im vori
 gen Jahr.\n\nBring dich ein und melde dich mit Namen und Studiengang bei an
 na.gerritzen@hs-emden-leer.de.\n\nGemeinsam mit EUCH wollen wir Perspektive
 n und Maßnahmen entwickeln, die unsere Hochschule zukunftsfähig macht.\n\nD
 ie aktive Teilnahme Transformationsprozess wird den Studierenden durch die 
 Hochschulleitung bescheinigt!\n\nWeitere Informationen zum Ipro-L Projekt f
 indest Du hier.
DTSTAMP:20211109T111330Z
DTSTART:20211113T090000Z
DTEND:20211113T130000Z
END:VEVENT
END:VCALENDAR
