BEGIN:VCALENDAR
VERSION:2.0
PRODID:https://github.com/derhansen/sf_event_mgt
METHOD:PUBLISH
BEGIN:VEVENT
UID:1036-8647@www.hs-emden-leer.de
CLASS: PUBLIC
SUMMARY:Praxismarkt Soziale Arbeit und Gesundheit
DESCRIPTION:Miteinander ins Gespräch kommen und zu bleiben war und ist Ziel
  unseres Praxismarktes, der sich seit 2009 bereits großer und weiter zunehm
 ender Wertschätzung aller Beteiligter erfreut. Jährlich im Oktober treffen 
 sich hierzu Praktiker*innen, Studierende und Lehrende an der Hochschule, um
  aktuelle Themen und Fragestellungen in verschiedenen Formaten (Diskussione
 n, Foren, Workshops, Präsentationen…) zu erörtern.\n\n\n\n
LOCATION:Campus Emden
DTSTAMP:20260420T153246Z
DTSTART:20261029T080000Z
DTEND:20261029T160000Z
END:VEVENT
END:VCALENDAR
