BEGIN:VCALENDAR
VERSION:2.0
PRODID:https://github.com/derhansen/sf_event_mgt
METHOD:PUBLISH
BEGIN:VEVENT
UID:322-279@www.hs-emden-leer.de
CLASS: PUBLIC
SUMMARY:Pandemie verändert
DESCRIPTION:Unter dem Titel "Pandemie verändert" gibt es am Donnerstag, 18.
  November ein Diskussionsforum in der Emder Kulturkirche Martin Luther (Bol
 lwerkstraße 9). Der Abend wird gemeinsam veranstaltet vom Evangelisch-luthe
 rischen Sprengel Ostfriesland-Ems und der Hochschule Emden/Leer. Es werden 
 drei Themenbereiche in den Blick genommen: Inwieweit hat die Pandemie den B
 lick auf das Thema der Nachhaltigkeit verändert? Welchen Einfluss hat die P
 andemie auf den Glauben und die Spiritualität? Ist eine Veränderung im Verh
 ältnis von Individuum und Gesellschaft zu beobachten?\n\nDie Veranstaltung 
 wird unter Berücksichtigung der gültigen Abstands- und Hygieneregeln in der
  Martin Luther Kirche durchgeführt und ermöglicht als hybride Veranstaltung
  zugleich eine digitale Teilnahme. Anmeldungen und Informationen unter fach
 forum@hs-emden-leer.de. Weitere Informationen unter https://bit.ly/3BYKomk.
DTSTAMP:20211111T094015Z
DTSTART:20211118T190000Z
DTEND:20211118T211500Z
END:VEVENT
END:VCALENDAR
