BEGIN:VCALENDAR
VERSION:2.0
PRODID:https://github.com/derhansen/sf_event_mgt
METHOD:PUBLISH
BEGIN:VEVENT
UID:368-5421@www.hs-emden-leer.de
CLASS: PUBLIC
SUMMARY:Osterferienprogramm: Wir begrüßen den Frühling
DESCRIPTION:Seid mit uns kreativ und tobt euch an Specksteinen und Modellie
 rmasse aus. Zudem begrüßen wir den Frühling mit Pfannkuchen aus hauseigenen
  Hühnereiern. Die Eierschalen werden zu lustigen Kresseeiern.\n\nTreffpunkt
 : Paapsand\n\n\n\nAnmeldung:\n\nMelde dich zur besseren Planung bis zu 3 Ta
 ge vor der Veranstaltung beim Familienservice an.\n\nDie Altersangabe ist n
 ur eine grobe Angabe, nach Absprache dürfen auch gerne jüngere bzw. ältere 
 Kinder (z.B. aufgrund kleiner Kita-Ferien) dabei sein. Alle Angebote sind k
 ostenfrei und finden am Campus Emden statt.\n\nNoch Fragen? Oder gleich anm
 elden unter:\n\n04921 807-1144\n\nfamilienservice@hs-emden-leer.de
LOCATION:Campus Emden
DTSTAMP:20220310T110734Z
DTSTART:20220413T060000Z
DTEND:20220413T100000Z
END:VEVENT
END:VCALENDAR
