BEGIN:VCALENDAR
VERSION:2.0
PRODID:https://github.com/derhansen/sf_event_mgt
METHOD:PUBLISH
BEGIN:VEVENT
UID:367-5421@www.hs-emden-leer.de
CLASS: PUBLIC
SUMMARY:Osterferienprogramm: SOS-Training
DESCRIPTION:„SOS-Training“ (Schützen ohne Schlagen) ist ein präventives, de
 eskalierendes Selbstbehauptungs- und Selbstverteidigungstraining. Lernt mit
  uns eure eigenen Stärken kennen sowie verbale Schutzmaßnahmen und Durchset
 zungsstrategien. Auch die Themen Zivilcourage und Ansprache von eigenen Bed
 ürfnissen kommen nicht zu kurz. Das SOS-Training wird durch Carsten Benjami
 ns von IKIYA durch Unterstützung vom Familienservice durchgeführt. \n\nTref
 fpunkt:  Coram \n\n\n\nAnmeldung:\n\n\n\nMelde dich zur besseren Planung bi
 s zu 3 Tage vor der Veranstaltung beim Familienservice an.\n\nDie Altersang
 abe ist nur eine grobe Angabe, nach Absprache dürfen auch gerne jüngere bzw
 . ältere Kinder (z.B. aufgrund kleiner Kita-Ferien) dabei sein. Alle Angebo
 te sind kostenfrei und finden am Campus Emden statt.\n\nNoch Fragen? Oder g
 leich anmelden unter:\n\n04921 807-1144\n\nfamilienservice@hs-emden-leer.de
LOCATION:Campus Emden
DTSTAMP:20220310T110634Z
DTSTART:20220412T070000Z
DTEND:20220412T100000Z
END:VEVENT
END:VCALENDAR
