BEGIN:VCALENDAR
VERSION:2.0
PRODID:https://github.com/derhansen/sf_event_mgt
METHOD:PUBLISH
BEGIN:VEVENT
UID:355-5421@www.hs-emden-leer.de
CLASS: PUBLIC
SUMMARY:Osterferienbetreuung für schulpflichtige Kinder bis 12 Jahre
DESCRIPTION:Unsere Osterferienbetreuung * in Kooperation mit der agilio gGm
 bH wird von Montag bis Freitag (04.04.22 -08.04.22) jeweils von 7:45-15:00 
 Uhr im Gemeindehaus Constantia (Paapsand - gegenüber G-Gebäude Campus Emden
 ) angeboten. Gerne sind auch einzelne Tage der Betreuung nutzbar. Zwischen 
 12 und 13 Uhr findet eine betreute Mittagspause in der Mensa statt. Zudem f
 indet eine Verpflegung mit Trinken (Wasser, Saft, Tee) und Kleinigkeiten (G
 emüse, Obst, Kekse) über den gesamten Tag statt. Die Betreuung ist kostenfr
 ei! Lediglich für das Essen wird ein kleiner Betrag von 3 €/Tag erhoben. Au
 fgrund der aktuellen Situation gilt auch bei der Ferienbetreuung die 3G-Reg
 el. Alle Kinder und Betreuungspersonen können einen kostenfreien Test über 
 den Familienservice erhalten.\n\nAnmeldungen sind ab sofort unter familiens
 ervice@hs-emden-leer.de
LOCATION:Campus Emden
DTSTAMP:20220228T135713Z
DTSTART:20220404T074500Z
DTEND:20220408T150000Z
END:VEVENT
END:VCALENDAR
