BEGIN:VCALENDAR
VERSION:2.0
PRODID:https://github.com/derhansen/sf_event_mgt
METHOD:PUBLISH
BEGIN:VEVENT
UID:602-7768@www.hs-emden-leer.de
CLASS: PUBLIC
SUMMARY:Online studieren (Master)
DESCRIPTION:Am 19. Mai um 20:00 Uhr veranstaltet das Online-Team der Hochsc
 hule Emden/Leer für alle Studieninteressierten eine Videokonferenz zum Them
 a „Online studieren an der Hochschule Emden/Leer (Master)“. In einer einstü
 ndigen Videokonferenz erhalten Sie einen Überblick über die Organisation un
 d den Ablauf des Online-Studiums in den Master-Studiengängen an unserer Hoc
 hschule (Medieninformatik und Wirtschaftsinformatik). Im Anschluss haben Si
 e die Möglichkeit, Ihre Fragen direkt zu klären. Unter dem Link https://bbb
 .hs-emden-leer.de/b/lub-ill-a7a-ovu finden Sie den Zugang zum Videokonferen
 zraum.  Bei Fragen melden Sie sich gerne per E-Mail an info@online.hs-emden
 -leer.de oder telefonisch unter 04921/807-1941.
LOCATION:Online
DTSTAMP:20230303T083851Z
DTSTART:20220519T180000Z
DTEND:20220519T190000Z
END:VEVENT
END:VCALENDAR
