BEGIN:VCALENDAR
VERSION:2.0
PRODID:https://github.com/derhansen/sf_event_mgt
METHOD:PUBLISH
BEGIN:VEVENT
UID:603-7768@www.hs-emden-leer.de
CLASS: PUBLIC
SUMMARY:Online studieren (Bachelor)
DESCRIPTION:Am 2. Juni um 20:00 Uhr veranstaltet das Online-Team der Hochsc
 hule Emden/Leer für alle Studieninteressierten eine Videokonferenz zum Them
 a „Online studieren an der Hochschule Emden/Leer (Bachelor)“. In einer eins
 tündigen Videokonferenz erhalten Sie einen Überblick über die Organisation 
 und den Ablauf des Online-Studiums in den Bachelor-Studiengängen an unserer
  Hochschule (Medieninformatik, Wirtschaftsinformatik und Regenerative Energ
 ien). Im Anschluss haben Sie die Möglichkeit, Ihre Fragen direkt zu klären.
  Unter dem Link https://bbb.hs-emden-leer.de/b/lub-ill-a7a-ovu finden Sie d
 en Zugang zum Videokonferenzraum.  Bei Fragen melden Sie sich gerne per E-M
 ail an info@online.hs-emden-leer.de oder telefonisch unter 04921/807-1941.
LOCATION:Online
DTSTAMP:20230303T083851Z
DTSTART:20220602T180000Z
DTEND:20220602T190000Z
END:VEVENT
END:VCALENDAR
