BEGIN:VCALENDAR
VERSION:2.0
PRODID:https://github.com/derhansen/sf_event_mgt
METHOD:PUBLISH
BEGIN:VEVENT
UID:604-7768@www.hs-emden-leer.de
CLASS: PUBLIC
SUMMARY:Online studieren (2)
DESCRIPTION:Am 1. Dezember um 10:00 Uhr veranstaltet das Online-Team der Ho
 chschule Emden/Leer für alle Studieninteressierten eine Videokonferenz zum 
 Thema „Online studieren an der Hochschule Emden/Leer“. Die wichtigsten Info
 rmationen zum Online-Studium an unserer Hochschule finden Sie auf der Seite
  der Online-Studiengänge unter https://www.hs-emden-leer.de/studieninteress
 ierte/studienangebot/online-studium. In der Videokonferenz erhalten Sie die
  Möglichkeit Ihre offengebliebenen Fragen direkt zu klären und das Online-T
 eam der Hochschule kennenzulernen. Unter dem Link https://bbb.hs-emden-leer
 .de/b/lub-ill-a7a-ovu finden Sie den Zugang zum Videokonferenzraum. Bei Fra
 gen melden Sie sich gerne per E-Mail an info@online.hs-emden-leer.de oder t
 elefonisch unter 04921/807-1941.
LOCATION:Online
DTSTAMP:20230303T083851Z
DTSTART:20221201T090000Z
DTEND:20221201T100000Z
END:VEVENT
END:VCALENDAR
