BEGIN:VCALENDAR
VERSION:2.0
PRODID:https://github.com/derhansen/sf_event_mgt
METHOD:PUBLISH
BEGIN:VEVENT
UID:522-5411@www.hs-emden-leer.de
CLASS: PUBLIC
SUMMARY:Online studieren (1)
DESCRIPTION:Am 25. November um 18:00 Uhr veranstaltet das Online-Team der H
 ochschule Emden/Leer für alle Studieninteressierten eine Videokonferenz zum
  Thema „Online studieren an der Hochschule Emden/Leer“. Die wichtigsten Inf
 ormationen zum Online-Studium an unserer Hochschule finden Sie auf der Seit
 e der Online-Studiengänge unter https://www.hs-emden-leer.de/studieninteres
 sierte/studienangebot/online-studium. In der Videokonferenz erhalten Sie di
 e Möglichkeit Ihre offengebliebenen Fragen direkt zu klären und das Online-
 Team der Hochschule kennenzulernen. Unter dem Link https://bbb.hs-emden-lee
 r.de/b/lub-ill-a7a-ovu finden Sie den Zugang zum Videokonferenzraum. Bei Fr
 agen melden Sie sich gerne per E-Mail an info@online.hs-emden-leer.de oder 
 telefonisch unter 04921/807-1941.
LOCATION:Online
DTSTAMP:20221109T111756Z
DTSTART:20221125T170000Z
DTEND:20221125T180000Z
END:VEVENT
END:VCALENDAR
