BEGIN:VCALENDAR
VERSION:2.0
PRODID:https://github.com/derhansen/sf_event_mgt
METHOD:PUBLISH
BEGIN:VEVENT
UID:311-5421@www.hs-emden-leer.de
CLASS: PUBLIC
SUMMARY:Online-Reihe: Das liebe Geld
DESCRIPTION:Frauen tendieren - vor allem aufgrund der Sozialisierung - dazu
 , Verhandlungen zu scheuen. Zu Beginn dieses Themenabends schauen wir uns a
 n, woran das liegt, welche Unterschiede es im Verhandlungsverhalten zwische
 n Männern und Frauen gibt und was Frau konkret tun kann um sich in der Geha
 ltsverhandlung zu behaupten und nachhaltig gut aufzustellen. \n\n\n\nAnmeld
 ungen bis zum 22.11.21 unter hannah.kabaj@hs-emden-leer.de\n\n\n\n
LOCATION:Online
DTSTAMP:20211018T112559Z
DTSTART:20211124T200000Z
DTEND:20211124T213000Z
END:VEVENT
END:VCALENDAR
