BEGIN:VCALENDAR
VERSION:2.0
PRODID:https://github.com/derhansen/sf_event_mgt
METHOD:PUBLISH
BEGIN:VEVENT
UID:1038-5413@www.hs-emden-leer.de
CLASS: PUBLIC
SUMMARY:Next-Gen-Speicher: Neue Speicherlösungen für ein flexibles Energies
 ystem
DESCRIPTION:Die Teilnahme ist kostenlos. \n\n\n\nEine Anmeldung ist unter d
 iesem Link möglich. 
LOCATION:Online
DTSTAMP:20260423T061243Z
DTSTART:20260513T130000Z
DTEND:20260513T140000Z
END:VEVENT
END:VCALENDAR
