BEGIN:VCALENDAR
VERSION:2.0
PRODID:https://github.com/derhansen/sf_event_mgt
METHOD:PUBLISH
BEGIN:VEVENT
UID:406-5417@www.hs-emden-leer.de
CLASS: PUBLIC
SUMMARY:Nachhaltiger Feierabendmarkt auf dem Campus
DESCRIPTION:Dreimal im Jahr findet auf dem Campus der Hochschule in Emden e
 in nachhaltiger Feierabendmarkt statt. In entspannter Atmosphäre und nach F
 eierabend werden dort ökologische, regionale und faire Produkte von Anbiete
 rinnen und Anbietern aus Ostfriesland zum Kauf angeboten. Die Vorzüge der R
 egion in Sachen regionaler und nachhaltiger Landwirtschaft können so von un
 seren Studierenden und Mitarbeitenden sowie von BesucherInnen aus der Stadt
  direkt genutzt werden. Daneben präsentieren sich nachhaltige Hochschulproj
 ekte und zivilgesellschaftliche Initiativen.\n\nIm Jahr 2022 freuen wir uns
  am Mittwoch, den 01. Juni, von 16-19 Uhr auf Euch! Ihr findet den Markt di
 rekt auf dem Campus des Standorts Emden!
LOCATION:Campus Emden
DTSTAMP:20220512T103623Z
DTSTART:20220601T140000Z
DTEND:20220601T170000Z
END:VEVENT
END:VCALENDAR
