BEGIN:VCALENDAR
VERSION:2.0
PRODID:https://github.com/derhansen/sf_event_mgt
METHOD:PUBLISH
BEGIN:VEVENT
UID:3-5417@www.hs-emden-leer.de
CLASS: PUBLIC
SUMMARY:N-Team Aktion KINO: "Tomorrow - Die Welt ist voller Lösungen"
DESCRIPTION:Mal wieder Bock auf Kino? Oder etwas Nachhaltiges?\n\nAm Donner
 stag könnt ihr beides verbinden!\n\nSchnappt euch interessierte Freund*inne
 n und kommt vorbei.\n\nWann? Donnerstag, 16.09.2021 17 Uhr\n\nWo? Raum T151
  am Campus Emden\n\nWas? Wir zeigen den Film „Tomorrrow – Die Welt ist voll
 er Lösungen“\n\nTrailer & Infos zum Film: https://www.tomorrow-derfilm.de/\
 n\n\n\nWir freuen uns auf euch!\n\nEuer N-Team 
DTSTAMP:20210924T071942Z
DTSTART:20210916T150000Z
DTEND:20210916T170000Z
END:VEVENT
END:VCALENDAR
