BEGIN:VCALENDAR
VERSION:2.0
PRODID:https://github.com/derhansen/sf_event_mgt
METHOD:PUBLISH
BEGIN:VEVENT
UID:351-5414@www.hs-emden-leer.de
CLASS: PUBLIC
SUMMARY:MyCampus-Workshop: Interkulturelles Training [Online]
DESCRIPTION:Dieser Workshop ist die Pflichtkomponente für das Interkulturel
 le Zertifikatsprogramm!
DTSTAMP:20220224T143037Z
DTSTART:20220326T100000Z
DTEND:20220326T140000Z
END:VEVENT
END:VCALENDAR
