BEGIN:VCALENDAR
VERSION:2.0
PRODID:https://github.com/derhansen/sf_event_mgt
METHOD:PUBLISH
BEGIN:VEVENT
UID:349-5414@www.hs-emden-leer.de
CLASS: PUBLIC
SUMMARY:MyCampus-Workshop: "Erfolgreich führen [Präsenz]"
DESCRIPTION:
DTSTAMP:20220224T143153Z
DTSTART:20220422T090000Z
DTEND:20220422T170000Z
END:VEVENT
END:VCALENDAR
