BEGIN:VCALENDAR
VERSION:2.0
PRODID:https://github.com/derhansen/sf_event_mgt
METHOD:PUBLISH
BEGIN:VEVENT
UID:352-5414@www.hs-emden-leer.de
CLASS: PUBLIC
SUMMARY:MyCampus-Angebot: Zeitmanagement, Konzentration, Selbstdisziplin: M
 it gutem Selbstmanagement erfolgreich durchs Semester [Online]
DESCRIPTION:
DTSTAMP:20220224T143115Z
DTSTART:20220419T154500Z
DTEND:20220419T184500Z
END:VEVENT
END:VCALENDAR
