BEGIN:VCALENDAR
VERSION:2.0
PRODID:https://github.com/derhansen/sf_event_mgt
METHOD:PUBLISH
BEGIN:VEVENT
UID:350-5414@www.hs-emden-leer.de
CLASS: PUBLIC
SUMMARY:MyCampus-Angebot: "Persönlichkeitsentwicklung und Kompetenzerwerb [
 Präsenz]"
DESCRIPTION:Dieses Angebot besteht aus zwei Wochenendseminaren + Kleingrupp
 encoaching + Einzelcoaching. Nach erfolgreicher Teilnahme erhalten die Teil
 nehmer*innen ein Zertifikat.\n\nAchtung: Dieses Angebot ist immer besonders
  schnell ausgebucht!! Also schnell anmelden :)
DTSTAMP:20220224T143055Z
DTSTART:20220408T180000Z
DTEND:20220408T220000Z
END:VEVENT
END:VCALENDAR
