BEGIN:VCALENDAR
VERSION:2.0
PRODID:https://github.com/derhansen/sf_event_mgt
METHOD:PUBLISH
BEGIN:VEVENT
UID:302-273@www.hs-emden-leer.de
CLASS: PUBLIC
SUMMARY:Mitläufer oder Bystander – Was kann ich als Student bei sexueller B
 elästigung an der Hochschule tun?
DESCRIPTION:Sexuelle Belästigung an der Hochschule ist ein schwieriges Them
 a, emotional aufgeladen und brisant. Aus männlicher Perspektive ist es oft 
 mit Unsicherheiten und Befürchtungen verbunden. Studien zeigen ein großes A
 usmaß und weitgehende Auswirkungen für die Betroffenen. In einer Untersuchu
 ng der Ruhr-Universität Bochum gaben 17,3 % der Männer und 56,7 % der Fraue
 n an, sexuelle Belästigung während der Studienzeit erlebt zu haben. Das zah
 lenmäßig größte Problem ist die sexuelle Belästigung unter Studierenden. Di
 e größte Gruppe sind die Mitläufer, die solchen Situationen beiwohnen, aber
  nicht eingreifen. Der Workshop soll helfen sich zu informieren und handlun
 gssicherer zu werden und er gibt Antworten u. a. zu folgenden Fragen:\n\nWa
 s ist sexuelle Belästigung?\n\nWas macht es schwierig, sich einzumischen?\n
 \nWas hilft, um einzuschreiten?\n\nWas kann ich tun?\n\nWorkshopleitung: Mi
 chael Herschelmann, Professor im FB SAG und Vertrauensperson der Hochschule
  Emden/Leer\n\nAnmeldung: gleichstellung[at]hs-emden-leer.de
LOCATION:Online
DTSTAMP:20211018T153545Z
DTSTART:20211201T173000Z
DTEND:20211201T190000Z
END:VEVENT
END:VCALENDAR
