BEGIN:VCALENDAR
VERSION:2.0
PRODID:https://github.com/derhansen/sf_event_mgt
METHOD:PUBLISH
BEGIN:VEVENT
UID:207-5421@www.hs-emden-leer.de
CLASS: PUBLIC
SUMMARY:#MINT #FRAUEN – Worldcafe mit Frauen in MINT
DESCRIPTION:Ehemalige Technikantinnen und Studentinnen aus Braunschweig, Em
 den und Osnabrück informieren über den genauen Ablauf, die Hintergründe und
  Vorteile des Niedersachsen-Technikums und berichten über ihre persönlichen
  Erfahrungen und jetzigen MINT-Studienfächer.\n\nAnmeldung per E-Mail: Wenn
  Sie an der Veranstaltung teilnehmen möchten, melden Sie sich einfach per E
 -Mail bei technikum@hs-emden-leer.de an. Sie erhalten im Anschluss einen Li
 nk mit den Zugangsdaten.\n\n\n\n\n\n
LOCATION:Online
DTSTAMP:20210512T144512Z
DTSTART:20210615T143000Z
DTEND:20210615T151500Z
END:VEVENT
END:VCALENDAR
