BEGIN:VCALENDAR
VERSION:2.0
PRODID:https://github.com/derhansen/sf_event_mgt
METHOD:PUBLISH
BEGIN:VEVENT
UID:398-5421@www.hs-emden-leer.de
CLASS: PUBLIC
SUMMARY:Men and Women as a pattern for visualising aesthetic business proce
 sses
DESCRIPTION:A workshop with Prof. Dr.-Ing. Monika Blattmeier.\n\nThe worksh
 op is open for anyone who is interested. Please registrate for this event b
 y email via gleichstellung[at]hs-emden-leer.de.\n\nThis is an event within 
 the series GENDERmai 2022.
DTSTAMP:20220413T112903Z
DTSTART:20220510T080000Z
DTEND:20220510T093000Z
END:VEVENT
END:VCALENDAR
