BEGIN:VCALENDAR
VERSION:2.0
PRODID:https://github.com/derhansen/sf_event_mgt
METHOD:PUBLISH
BEGIN:VEVENT
UID:296-6312@www.hs-emden-leer.de
CLASS: PUBLIC
SUMMARY:Mastering Design Thinking IV: The Power of Prototyping & Testing
DESCRIPTION:Understand the different prototypes and learn to prototype and 
 test for any occasion, from an essay to an actual MVP for your start-up pla
 ns. This workshop helps you to understand the art of failing fast and becom
 ing successful in doing so.  This is part five of the five-part workshop se
 ries we are doing together with students from Gronigen.\n\nClick here for r
 egistration
DTSTAMP:20211001T110148Z
DTSTART:20211111T140000Z
DTEND:20211111T160000Z
END:VEVENT
END:VCALENDAR
