BEGIN:VCALENDAR
VERSION:2.0
PRODID:https://github.com/derhansen/sf_event_mgt
METHOD:PUBLISH
BEGIN:VEVENT
UID:294-6312@www.hs-emden-leer.de
CLASS: PUBLIC
SUMMARY:Mastering Design Thinking III: Learn to Brainstorm Like a Pro
DESCRIPTION:We all know how to brainstorm. But do we all know how to brains
 torm effectively, or even to brainstorm particularly creative ideas? This w
 orkshop will help you hone your creative confidence. Participants will lear
 n an innovative yet structured approach to practical brainstorming sessions
  that will help them produce a great number of ideas.  This is part four of
  the five-part workshop series we are doing together with students from Gro
 nigen.\n\nClick here for registration
DTSTAMP:20211001T105748Z
DTSTART:20211104T140000Z
DTEND:20211104T160000Z
END:VEVENT
END:VCALENDAR
