BEGIN:VCALENDAR
VERSION:2.0
PRODID:https://github.com/derhansen/sf_event_mgt
METHOD:PUBLISH
BEGIN:VEVENT
UID:293-6312@www.hs-emden-leer.de
CLASS: PUBLIC
SUMMARY:Mastering Design Thinking II: Define Problems Like a Designer
DESCRIPTION:Everyone can jump working on a problem. But are you working on 
 an issue that is worthwhile solving at all? This workshop will provide you 
 with moves from the designer’s toolkit that will help you frame your proble
 m making sure you are working on the right one.  This is part three of the 
 five-part workshop series we are doing together with students from Gronigen
 .\n\nClick here for registration
DTSTAMP:20211001T110031Z
DTSTART:20211028T130000Z
DTEND:20211028T150000Z
END:VEVENT
END:VCALENDAR
