BEGIN:VCALENDAR
VERSION:2.0
PRODID:https://github.com/derhansen/sf_event_mgt
METHOD:PUBLISH
BEGIN:VEVENT
UID:292-6312@www.hs-emden-leer.de
CLASS: PUBLIC
SUMMARY:Mastering Design Thinking I – Empathy & Information Synthesis
DESCRIPTION:Empathy work lies at the core of the human-centred approach of 
 the Design Thinking Process. Its quality will determine the degree of innov
 ation that your final solution can reach. This workshop will help you dive 
 into the abstract to navigate the problem sphere, identify needs and genera
 te insights from the collected data.  This is part two of the five-part wor
 kshop series we are doing together with students from Gronigen.\n\nClick he
 re for registration
DTSTAMP:20211001T105543Z
DTSTART:20211021T130000Z
DTEND:20211021T150000Z
END:VEVENT
END:VCALENDAR
