BEGIN:VCALENDAR
VERSION:2.0
PRODID:https://github.com/derhansen/sf_event_mgt
METHOD:PUBLISH
BEGIN:VEVENT
UID:273-5419@www.hs-emden-leer.de
CLASS: PUBLIC
SUMMARY:Karrieretag an der Hochschule Emden/Leer 2021
DESCRIPTION:Nach einer Zwangspause starten wir in diesem Jahr wieder durch!
 \n\nNach großem Erfolg der Karrieretage 2017, 2018 & 2019 mit jeweils mehr 
 als 700 Besuchern gehen die Teams der Ems-Achse und des Career Service der 
 Hochschule Emden/Leer in die nächste Runde. Am Mittwoch, 03. November, werd
 en sich in der Zeit von 10.00 bis 15.00 Uhr regionale und überregionale Unt
 ernehmen auf dem Emder Campus präsentieren.\n\nDer Ems-Achse Karrieretag bi
 etet Studierenden und Arbeitgebern die Gelegenheit, sich persönlich kennenz
 ulernen und Netzwerke aufzubauen. Studierende erhalten Informationen zu Kar
 rierechancen in den unterschiedlichsten Branchen und knüpfen Kontakte für P
 raktika, Abschlussarbeiten und Einstiegspositionen.\n\nEs wird ein Hygienek
 onzept erarbeitet, entsprechend kann es zu Zugangsbeschränkungen im Karrier
 ezelt kommen.
LOCATION:Campus Emden
DTSTAMP:20210825T075840Z
DTSTART:20211103T090000Z
DTEND:20211103T140000Z
END:VEVENT
END:VCALENDAR
