BEGIN:VCALENDAR
VERSION:2.0
PRODID:https://github.com/derhansen/sf_event_mgt
METHOD:PUBLISH
BEGIN:VEVENT
UID:250-5411@www.hs-emden-leer.de
CLASS: PUBLIC
SUMMARY:Internationales Hyperloop Seminar (12)
DESCRIPTION: 	Am 25. Oktober findet bereits zum dritten Mal das Hyperloop o
 nline Seminar „Vacuum Transportation Technology“ statt, als reguläres Kurs
 angebot im Kooperationsstudiengang Engineering Physics der Hochschule Emden
 /Leer und der Carl von Ossietzky Universität Oldenburg. Initiiert von der 
 Eidgenössischen Technischen Hochschule Zürich sowie der Schweizer Stiftun
 g EuroTube hat sich der internationale Zusammenschluss mit der Technischen 
 Universität München nun gefestig. 	„Die Idee dieses gemeinsamen Seminars 
 entstand im Rahmen der Antragstellung für ein europäisches Förderprojekt
 , welches die Hochschule Emden/Leer gemeinsam mit den Schweizer Partnern an
 gestoßen hatten“ erläutert Prof. Dr. Walter Neu, Vorstandsmitglied im Inst
 itut für Hyperloop Technologie der Hochschule Emden/Leer. „Zusammen mit Eu
 roTube und dem studentischen Team Swissloop der ETH arbeiten wir daran, das
  Forschungsthema Hyperloop mit in unsere Lehre einzubauen“, ergänzt Prof. 
 Dr.-Ing. Thomas Schüning, ebenfalls Vorstandsmitglied im Institut für Hyp
 erloop Technologie. 	Das Seminar begeisterte im letzten Sommersemester 2021
  mehr als 50 Bachelor- und Masterstudierende. Studierende stellten dabei ak
 tuelle Ergebnisse aus Abschlussarbeiten und Forschungsprojekten vor. So pra
 ̈sentierten Engineering Physics Absolventen dabei u.a. Schwebetechnologien 
 für ein Hyperloop-System, einem der Anwendungsschwerpunkte der Hochschule 
 Emden/Leer zur Magnetschwebetechnologie. „Das Seminar ist ein hervorragende
 s Beispiel für projektorientierte Lehre. Hier zeigt sich, wie gut man Theo
 rie, anwendungsorientierte Forschung und Lehre miteinander verbinden kann“,
  so Prof. Dr. Gerhard Kreutz, Präsident der Hochschule Emden/Leer. 	Darüb
 er hinaus werden Expertenvorträge aus der Industrie und Forschung mit eing
 ebunden, mit regen Diskussionsbeiträgen der Studierenden. „Diese Möglichk
 eit der detaillierten technischen Diskussionen mit den Vortragenden verknü
 pft die Lehre mit einem handfesten Praxisbezug, finden die Professoren Neu 
 und Schüning. Die Themen reichen von der Fluiddynamik über akustische Lec
 ksuche, der Risikoanalyse des Hyperloop, Lehren aus der Entwicklung des Tra
 nsrapid, bis hin zum Design eines Hyperloop-Bahnhofs. 	Der Vizepräsident f
 ür Forschung, Transfer und Digitalisierung der Carl von Ossietzky Universi
 tät Oldenburg, Prof. Dr. Martin Fränzle, stellte in seinem Grußwort zur K
 onferenzserie European Hyperloop Technolgy fest: „Das Jahr 2013, in dem Elo
 n Musk in seinem White Paper die Idee des Hyperloop vorstellte, gilt vielen
  als die Geburtsstunde der Hyperlooptechnologie. Analog dazu dürfen wir, d
 ie Uni Oldenburg und die Hochschule Emden/Leer, für uns in Anspruch nehmen
 , mit der Begründung des Studiengangs Engineering Physics im Studienjahr 1
 998/99 gemeinsam die Keimzelle für Hyperloop hier im Nordwesten Deutschlan
 ds geschaffen zu haben!“ 
LOCATION:Online
DTSTAMP:20210719T073405Z
DTSTART:20211108T170000Z
DTEND:20211108T180000Z
END:VEVENT
END:VCALENDAR
