BEGIN:VCALENDAR
VERSION:2.0
PRODID:https://github.com/derhansen/sf_event_mgt
METHOD:PUBLISH
BEGIN:VEVENT
UID:354-5417@www.hs-emden-leer.de
CLASS: PUBLIC
SUMMARY:Interdisziplinäres Nachhaltigkeitszertifikat: "Dem Klimawandel nach
 haltig begegnen - Wie können wir uns gegen Klimaveränderungen wappnen?", Pr
 of. Dr. Alexander Siegmund
DESCRIPTION:Die regionalen Folgen der globalen Klimaveränderungen sind inzw
 ischen auch bei uns unübersehbar: Hitzewellen, starke Niederschläge, Trocke
 nperioden oder extreme Sturmereignisse und damit verbundenen Folgen für Men
 sch, Gesellschaft und Wirtschaft. Aber welche Strategien und konkreten Maßn
 ahmen sind sinnvoll, um dem Klimawandel nachhaltig zu begegnen? - Klimaschu
 tz und Klimaanpassung müssen hier Hand in Hand gehen.\n\nVortragender: Prof
 . Dr. Alexander Siegmund, Professor für Physische Geographie an der PH und 
 Universität Heidelberg, Abt. Geographie, Reserach Group for Earth Observati
 on und UNESCO-Lehrstuhl für Erdbeobachtung und Geokommunikation an Welterbe
 stätten und Biosphärenreservaten\n\nDer BBB Link  :  https://bbb.hs-emden-l
 eer.de/b/ger-pev-dk2-ndd\n\nInteressierte außerhalb der Studierendenschaft 
 können unter folgendem Kontakt nähere Informationen erhalten: anna.gerritze
 n(at)hs-emden-leer.de 
LOCATION:Online
DTSTAMP:20220322T175020Z
DTSTART:20220421T150000Z
DTEND:20220421T170000Z
END:VEVENT
END:VCALENDAR
