BEGIN:VCALENDAR
VERSION:2.0
PRODID:https://github.com/derhansen/sf_event_mgt
METHOD:PUBLISH
BEGIN:VEVENT
UID:527-5680@www.hs-emden-leer.de
CLASS: PUBLIC
SUMMARY:Infoveranstaltung Interreg B
DESCRIPTION:INTERREG B ist ein themengebundenes, ausschreibungsorientiertes
  Programm für die Zusammenarbeit in definierten Regionen. Für uns ist hier 
 die Förderregion Nordseeraum von besonderer Bedeutung, weshalb wir uns sehr
  freuen Frau Rix von der Nationalen Kontakt- stelle INTERREG Nordseeraum fü
 r diesen Vortrag gewonnen zu haben. Gemeinsam mit Frau Jacuniak, der Region
 alvertreterin des INTERREG-Nordseeprogramms für unsere Regionn, stellt Sie 
 am 05. Dezember 2022 die thematischen Schwerpunkte, Förderbedingungen und a
 ktuelle Themen des Interreg Nordseeprogramms vor. Die Veranstaltung gibt ei
 nen schnellen Überblick zu den theoretischen Grundlagen, den praxisrelevant
 en Themen und den Partizipationsmöglichkeiten, die im weiteren Austausch di
 skutiert werden können.
LOCATION:Campus Emden
DTSTAMP:20221117T083809Z
DTSTART:20221205T100000Z
DTEND:20221205T120000Z
END:VEVENT
END:VCALENDAR
