BEGIN:VCALENDAR
VERSION:2.0
PRODID:https://github.com/derhansen/sf_event_mgt
METHOD:PUBLISH
BEGIN:VEVENT
UID:1033-8647@www.hs-emden-leer.de
CLASS: PUBLIC
SUMMARY:Info-Veranstaltung (online) zu den Praxisphasen und dem BAJ des neu
  akkreditierten Bachelorstudiengangs Soziale Arbeit
DESCRIPTION:In dieser Info-Veranstaltung möchten wir alle (potenziellen) Pr
 aktiker*innen über den neu akkreditierten Bachelorstudiengang Soziale Arbei
 t im Hinblick auf die studienbegleitenden Praxisphasen (Praktika) informier
 en. Themenpunkte werden u.a. sein:\n\n•Was ist neu am akkreditierten Studie
 ngang?\n\n•Wann werden die Praxisphasen abgeleistet und wie gestalten sie s
 ich?\n\nNatürlich gibt es auch die Möglichkeit Fragen zu stellen und in den
  Austausch zu kommen.\n\nZur Anmeldung
LOCATION:Online
DTSTAMP:20260420T152418Z
DTSTART:20260508T070000Z
DTEND:20260508T083000Z
END:VEVENT
END:VCALENDAR
