BEGIN:VCALENDAR
VERSION:2.0
PRODID:https://github.com/derhansen/sf_event_mgt
METHOD:PUBLISH
BEGIN:VEVENT
UID:359-5419@www.hs-emden-leer.de
CLASS: PUBLIC
SUMMARY:"In fünf Schritten zum Wunschjob" - Erfolgreiche Jobsuche mit Life/
 Work Planning und Social Media
DESCRIPTION:Für den Berufseinstieg bieten Veranstaltungen wie der JobAchse 
 Karrieretag am 19. Oktober auf dem Campus in Emden vielfältige Möglichkeite
 n, sich mit Wunscharbeitgeber*innen zu vernetzen. In diesem Workshop lernen
  Sie, wie Sie mit XING, LinkedIn und dem Life/Work Planning nach Richard Ne
 lson Bolles schon während des Studiums den Einstieg in eine erfolgreiche Ka
 rriere planen können. Sie erfahren, wie Sie sich mit Ihren Profilen profess
 ionell präsentieren und auf dem so genannten verdeckten Arbeitsmarkt passen
 de Stellen für sich finden können. Neben den allgemein bekannten schriftlic
 hen Bewerbungen erweitert diese Technik Ihre Möglichkeiten um ein Vielfache
 s, nach dem Studium schnell eine Arbeitsstelle zu finden, die sehr gut zu I
 hnen passt.\n\nDie Seminarteilnehmer*innen erhalten einen Leitfaden zur Ers
 tellung von sehr guten Profilen in den beruflichen sozialen Netzwerken sowi
 e das gesamte Konzept zum Netzwerkaufbau und zur Jobfindung in fünf Schritt
 en. Durch die im Seminar erlangten Kenntnisse und die Beispiele für erfolgr
 eich geknüpfte Netzwerke haben die Seminarteilnehmer*innen sehr hohe Chance
 n, ihre Jobsuche nach dem Studium erheblich zu verkürzen und eine Stelle zu
  finden, die sehr gut zu ihnen passt.
LOCATION:Online
DTSTAMP:20220303T110043Z
DTSTART:20220405T130000Z
DTEND:20220405T153000Z
END:VEVENT
END:VCALENDAR
