BEGIN:VCALENDAR
VERSION:2.0
PRODID:https://github.com/derhansen/sf_event_mgt
METHOD:PUBLISH
BEGIN:VEVENT
UID:373-6850@www.hs-emden-leer.de
CLASS: PUBLIC
SUMMARY:Im Gleichgewicht bleiben
DESCRIPTION:Lernen Sie, wie Sie im Übergang von der Heimarbeit zur Rückkehr
  an den Campus oder den Wechsel zwischen beidem Ihr Gleichgewicht bewahren 
 und Sie gesunde Routinen sowie Grenzen zwischen Arbeits- und Privatleben be
 ibehalten oder wiederherstellen können.\n\n\n\nAnmeldungen ab sofort via Ma
 il möglich.
LOCATION:Campus Emden
DTSTAMP:20220316T102717Z
DTSTART:20220411T140000Z
DTEND:20220411T160000Z
END:VEVENT
END:VCALENDAR
