BEGIN:VCALENDAR
VERSION:2.0
PRODID:https://github.com/derhansen/sf_event_mgt
METHOD:PUBLISH
BEGIN:VEVENT
UID:514-5573@www.hs-emden-leer.de
CLASS: PUBLIC
SUMMARY:Eingefroren am Nordpol
DESCRIPTION:Auch in diesem Jahr laden die Hochschule Emden/Leer und die Sta
 dt Emden zu ihrer gemeinsamen Reihe „Emder Vorträge“ in die Johannes a Lasc
 o-Bibliothek, Kirchstr. 22, 26721 Emden ein.\n\nDer Klimaforscher Prof. Dr.
  Markus Rex wird am Mittwoch, 2. November über seine Erfahrungen als Forsch
 er auf der „Polarstern“ berichten.\n\nDas Forschungsschiff war im September
  2019 zur größten Arktisexpedition aller Zeiten vom Hafen in Tromsö/Norwege
 n aufgebrochen. Am Nordpol angekommen, ließ die Besatzung es einfrieren. An
  Bord befanden sich Wissenschaftler aus 20 Nationen, die in der Arktis ein 
 Jahr lang die Auswirkungen des Klimawandels untersuchten. Markus Rex, Leite
 r der „MOSAiC“ genannten Forschungsmission, berichtet in Emden von seinen E
 rfahrungen, die auch in seinem Buch „Eingefroren am Nordpol“ nachzulesen si
 nd. Er ist Professor an der Universität Potsdam und leitet die Sektion Atmo
 sphärenphysik des Alfred-Wegener-Instituts (AWI).\n\n \n\nAnmeldung unter v
 eranstaltung@hs-emden-leer.de .
DTSTAMP:20221102T114944Z
DTSTART:20221102T170000Z
DTEND:20221102T193000Z
END:VEVENT
END:VCALENDAR
