BEGIN:VCALENDAR
VERSION:2.0
PRODID:https://github.com/derhansen/sf_event_mgt
METHOD:PUBLISH
BEGIN:VEVENT
UID:307-5421@www.hs-emden-leer.de
CLASS: PUBLIC
SUMMARY:Herbstferienprogramm
DESCRIPTION:Egal ob Traumfänger, Speckstein, Widlicht oder Kastanienfigur. 
 Gemeinsam sammlen wir herbstliche NAturmaterialien auf dem Campus und gesta
 lten tolle Dinge, um euer zu Hause zu schmücken. \n\n\n\nMelde dich zur bes
 seren Planung bis zu 3 Tage vor der Veranstaltung beim Familienservice an. 
 Die Altersangabe ist nur eine grobe Angabe, nach Absprache dürfen auch gern
  jüngere bzw. ältere Kinder (z.B. aufgrund kleiner Kita-Ferien) dabei sein.
  Alle Angebote sind kostenfrei und finden am Campus Emden statt. Aufgrund d
 er langen Betreuungszeiten am 28. Und 29. Oktober ist eine gemeinsame Mitta
 gspause mit Essen in der Mensa vorgesehen. Die Kosten der Verpflegung belau
 fen sich auf 3€.\n\nNoch Fragen?\n\nTelefon 04921 807-1144\n\nfamilienservi
 ce@hs-emden-leer.de
LOCATION:Campus Emden
DTSTAMP:20211018T113002Z
DTSTART:20211027T080000Z
DTEND:20211027T120000Z
END:VEVENT
END:VCALENDAR
