BEGIN:VCALENDAR
VERSION:2.0
PRODID:https://github.com/derhansen/sf_event_mgt
METHOD:PUBLISH
BEGIN:VEVENT
UID:503-5421@www.hs-emden-leer.de
CLASS: PUBLIC
SUMMARY:Herbstferienprogramm: "Der Herbst ist da"
DESCRIPTION:Lerne mit dem Rettungsdienst, Krankentransport und soziale Hilf
 sdienste Emden (RSKH) anderen in Notsituationen zu helfen. Der Treffpunkt w
 ird nach Anmeldung bekannt gegeben.\n\n\n\n
LOCATION:Campus Emden
DTSTAMP:20221014T071535Z
DTSTART:20221020T070000Z
DTEND:20221020T100000Z
END:VEVENT
END:VCALENDAR
