BEGIN:VCALENDAR
VERSION:2.0
PRODID:https://github.com/derhansen/sf_event_mgt
METHOD:PUBLISH
BEGIN:VEVENT
UID:309-5421@www.hs-emden-leer.de
CLASS: PUBLIC
SUMMARY:Herbstferienprogramm
DESCRIPTION:Bevor unsere Halloween-Party als Eltern-Café um 15:30 Uhr start
 et, gibt es noch einiges vorzubereiten. Bastelt mit uns gruselige Deko und 
 schnitzt euren eigenen Halloween-Kürbis. Selbstverständlich dürft ihr eure 
 Ergebnisse anschließend für zu Hause mitnehmen. \n\n Die Betreuung am Freit
 ag ist flexibel. Es ist also egal, ob Ihr(e) Kind(er)/dein(e) Kind(er) bere
 its um 8:00 Uhr, erst um beispielsweise 10:30 Uhr dabei sind oder früher ab
 geholt werden.\n\nMelde dich zur besseren Planung bis zu 3 Tage vor der Ver
 anstaltung beim Familienservice an. Die Altersangabe ist nur eine grobe Ang
 abe, nach Absprache dürfen auch gern jüngere bzw. ältere Kinder (z.B. aufgr
 und kleiner Kita-Ferien) dabei sein. Alle Angebote sind kostenfrei und find
 en am Campus Emden statt. Aufgrund der langen Betreuungszeiten am 28. Und 2
 9. Oktober ist eine gemeinsame Mittagspause mit Essen in der Mensa vorgeseh
 en. Die Kosten der Verpflegung belaufen sich auf 3€.\n\nNoch Fragen?\n\nTel
 efon 04921 807-1144\n\nfamilienservice@hs-emden-leer.de
LOCATION:Campus Emden
DTSTAMP:20211018T113035Z
DTSTART:20211029T080000Z
DTEND:20211029T153000Z
END:VEVENT
END:VCALENDAR
