BEGIN:VCALENDAR
VERSION:2.0
PRODID:https://github.com/derhansen/sf_event_mgt
METHOD:PUBLISH
BEGIN:VEVENT
UID:308-5421@www.hs-emden-leer.de
CLASS: PUBLIC
SUMMARY:Herbstferienprogramm
DESCRIPTION:.... möchten wir gemeinsam mit euch erfinden. Ein Bewegungsspie
 l was allein aus euren Ideen entsteh und von euch kreativ gestaltet wird. \
 n\nMelde dich zur besseren Planung bis zu 3 Tage vor der Veranstaltung beim
  Familienservice an. Die Altersangabe ist nur eine grobe Angabe, nach Abspr
 ache dürfen auch gern jüngere bzw. ältere Kinder (z.B. aufgrund kleiner Kit
 a-Ferien) dabei sein. Alle Angebote sind kostenfrei und finden am Campus Em
 den statt. Aufgrund der langen Betreuungszeiten am 28. Und 29. Oktober ist 
 eine gemeinsame Mittagspause mit Essen in der Mensa vorgesehen. Die Kosten 
 der Verpflegung belaufen sich auf 3€.\n\nNoch Fragen?\n\nTelefon 04921 807-
 1144\n\nfamilienservice@hs-emden-leer.de
LOCATION:Campus Emden
DTSTAMP:20211018T113020Z
DTSTART:20211028T080000Z
DTEND:20211028T153000Z
END:VEVENT
END:VCALENDAR
