BEGIN:VCALENDAR
VERSION:2.0
PRODID:https://github.com/derhansen/sf_event_mgt
METHOD:PUBLISH
BEGIN:VEVENT
UID:303-5421@www.hs-emden-leer.de
CLASS: PUBLIC
SUMMARY:Häusliche Gewalt erkennen und Interventionen entwickeln
DESCRIPTION:Partnerbeziehungen beginnen meist mit einer gegenseitigen Anzie
 hung, basierend auf gemeinsamen Werten. Einige Beziehungen verändern sich j
 edoch in eine Richtung, in der ein Partner Macht über den anderen ausüben w
 ill und ausübt. Diese Machausübung kann mit kontrollierendem Verhalten sowi
 e emotionaler und physischer Gewalt einhergehen und wird als häusliche Gewa
 lt bezeichnet. Häusliche Gewalt ist ein bedeutendes globales Gesundheitspro
 blem, wobei mehr Frauen als Männer Betroffene sind. In diesem Vortrag werde
 n zunächst die Häufigkeit und die Ausprägung häuslicher Gewalt vorgestellt.
  Weiterhin werden die gesundheitlichen Folgen häuslicher Gewalt beschrieben
 . Um diese Folgen besser zu identifizieren, ist es notwendig mögliche Betro
 ffene häuslicher Gewalt zu erkennen und Interventionen zu entwickeln. Daher
  wird in diesem Vortrag abschließend ein Trainingsprogramm zum besseren Erk
 ennen von Betroffenen häuslicher vorgestellt.\n\nReferentin: Jutta Lindert,
  Professorin für Gesundheitswissenschaften an der Hochschule Emden/Leer und
  Beraterin der WHO zu Covid-19 und psychischer Gesundheit\n\nAnmeldung: gle
 ichstellung[at]hs-emden-leer.de
LOCATION:Online
DTSTAMP:20211216T150406Z
DTSTART:20220104T173000Z
DTEND:20220104T183000Z
END:VEVENT
END:VCALENDAR
