BEGIN:VCALENDAR
VERSION:2.0
PRODID:https://github.com/derhansen/sf_event_mgt
METHOD:PUBLISH
BEGIN:VEVENT
UID:336-5421@www.hs-emden-leer.de
CLASS: PUBLIC
SUMMARY:Gründung als Karriereperspektive für Frauen
DESCRIPTION:In dieser Veranstaltung stehen Gründerinnen mit ihren Erfahrung
 en und Geschichten im Fokus und führen eine moderierte Diskussion darüber, 
 welche Kompetenzen und Weichenstellungen eigentlich für eine erfolgreiche G
 ründung nötig sind.\n\nDie Hochschule Emden/Leer engagiert sich vielseitig 
 für die Förderung von Gründung und Innovation. Seit 2019 besteht nun auch d
 as Projekt „MeerCommunity“ zur Hebung der Potenziale in der Bildungseinrich
 tung. Das Niedersächsische Ministerium fördert eine Themenmanagerin für Fem
 ale Entrepreneurship. Franziska Facius (MeerCommunity Startup Center) und L
 isa Hinrichs (startup.niedersachsen) diskutieren mit Gründerinnen aus versc
 hiedensten Phasen der Unternehmensgründung über Fragen nach erforderlichen 
 Kompetenzen, Rahmenbedingungen und Denkweisen.\n\nAnmeldungen für die Präse
 nzveranstaltung mit Livestream können über diesen Link erfolgen oder werden
  in der Gleichstellungsstelle der Hochschule telefonisch unter 04921/807-10
 50 oder per Mail an gleichstellung(at)hs-emden-leer.de entgegengenommen.\n\
 nDie Veranstaltung findet im Rahmen des "Lebendigen FrauenKalenders", präse
 ntiert vom Runden Tisch "FrauenLeben in Ostfriesland", statt.
LOCATION:Campus Emden
DTSTAMP:20220407T080444Z
DTSTART:20220421T153000Z
DTEND:20220421T170000Z
END:VEVENT
END:VCALENDAR
