BEGIN:VCALENDAR
VERSION:2.0
PRODID:https://github.com/derhansen/sf_event_mgt
METHOD:PUBLISH
BEGIN:VEVENT
UID:523-5421@www.hs-emden-leer.de
CLASS: PUBLIC
SUMMARY:Geschlechtsbezogene und sexualisierte Gewalt gegen Männer an der Ho
 chschule
DESCRIPTION:Geschlechtsbezogene und sexualisierte Gewalt an der Hochschule 
 ist ein schwieriges Thema, hochemotional aufgeladen und brisant. Aus männli
 cher Perspektive ist es oft mit Unsicherheiten und Befürchtungen verbunden.
  Studien zeigen ein großes Ausmaß und weitgehende Auswirkungen für die Leid
 tragenden. Auch Männer sind betroffen, wenn auch ungleich weniger. In einer
  Untersuchung der Ruhr-Universität Bochum gaben 17,3 % der Männer und 56,7 
 % der Frauen an, sexuelle Belästigung während der Studienzeit erlebt zu hab
 en. Die Veranstaltung soll helfen, sich zu informieren und handlungssichere
 r zu werden und gibt Antworten u. a. zu folgenden Fragen:\n\nWas ist geschl
 echtsbezogene und sexualisierte Gewalt?\n\nWie erleben Männer die Gewaltbet
 roffenheit?\n\nWas kann ich tun, wenn ich als Student betroffen bin?\n\nWas
  kann ich tun, wenn ich etwas beobachte oder mitbekomme?\n\nWas hilft, um e
 inzuschreiten?\n\nWorkshopleitung: Michael Herschelmann ist Professor im Fa
 chbereich Soziale Arbeit und Gesundheit und Vertrauensperson an der Hochsch
 ule Emden/Leer.\n\nEine Anmeldung ist nicht notwendig. Sie können an der On
 line-Veranstaltung über folgenden Zoom-Link teilnehmen: https://hs-emden-le
 er-de.zoom.us/j/95711740113
LOCATION:Online
DTSTAMP:20221111T105347Z
DTSTART:20221129T163000Z
DTEND:20221129T180000Z
END:VEVENT
END:VCALENDAR
