BEGIN:VCALENDAR
VERSION:2.0
PRODID:https://github.com/derhansen/sf_event_mgt
METHOD:PUBLISH
BEGIN:VEVENT
UID:524-5421@www.hs-emden-leer.de
CLASS: PUBLIC
SUMMARY:Geschlechtersensibel Sprechen und Schreiben
DESCRIPTION:Geschlechtersensible Sprache, auch gendern genannt, etabliert s
 ich immer mehr, ist aber auch Gegenstand kritischer Debatten. In der Verans
 taltung wollen wir neben praktischen Hinweisen zur Umsetzung geschlechterse
 nsibler Sprache auch über die Hintergründe sprechen. Warum überhaupt gender
 sensibel Sprechen und Schreiben? Was hat es mit dem Sternchen auf sich? Und
  wie kann ich selbst geschlechtergerechte Texte verfassen? Auf diese und an
 dere Fragen wollen wir in dem Workshop eingehen.\n\nAnmeldung an:  gleichst
 ellung(at)hs-emden-leer.de
LOCATION:Campus Emden
DTSTAMP:20221111T105359Z
DTSTART:20221215T160000Z
DTEND:20221215T173000Z
END:VEVENT
END:VCALENDAR
