BEGIN:VCALENDAR
VERSION:2.0
PRODID:https://github.com/derhansen/sf_event_mgt
METHOD:PUBLISH
BEGIN:VEVENT
UID:403-5421@www.hs-emden-leer.de
CLASS: PUBLIC
SUMMARY:Gendersensible Sprache
DESCRIPTION:In dieser Übung erarbeiten sich die Teilnehmenden Pro- und Cont
 ra Argumente für eine gendersensible Sprache. Die Gruppeneinteilung erfolgt
  dabei unabhängig von der eigenen Haltung. In den Gruppen sollen die jeweil
 igen Argumente gesammelt sowie mögliche Gegenargumente antizipiert werden. 
 Im Anschluss findet eine fiktive Parlamentsdiskussion nach britischem Vorbi
 ld statt. Lernziele der Veranstaltung sind ein Perspektivenwechsel und ein 
 Argumentationstraining.\n\nDer Workshop ist für alle Studierenden offen. Um
  eine Anmeldung wird gebeten an gleichstellung[at]hs-emden-leer.de. Die max
 imale Teilnahmezahl liegt bei 12 Personen.\n\nDies ist eine Veranstaltung i
 m Rahmen des GENDERmai 2022.
LOCATION:Campus Emden
DTSTAMP:20220412T123839Z
DTSTART:20220512T120000Z
DTEND:20220512T150000Z
END:VEVENT
END:VCALENDAR
