BEGIN:VCALENDAR
VERSION:2.0
PRODID:https://github.com/derhansen/sf_event_mgt
METHOD:PUBLISH
BEGIN:VEVENT
UID:781-5421@www.hs-emden-leer.de
CLASS: PUBLIC
SUMMARY:GENDERmai: Geschlechtliche Vielfalt an der Hochschule – Herausforde
 rungen und Chancen
DESCRIPTION:In einem kurzen Input werden zuerst Begriffe, die im Zusammenha
 ng mit geschlechtlicher Vielfalt auftauchen, wie inter*, trans*, divers und
  abinär erklärt. Dann werden die Realitäten von trans*, inter* und abinären
  Personen im Hochschulalltag umrissen, um daraus erste Beispiele aus der Pr
 axis abzuleiten und zu präsentieren. Was können Hochschulen tun, damit für 
 alle inklusive Lehr-, Lern- und Arbeitsräume entstehen. Welche Chancen und 
 Möglichkeiten gibt es und mit welchen strukturellen Grenzen müssen wir dabe
 i rechnen? Né Fink präsentiert praxisnah, wie im Hochschulalltag und in der
  Lehre ein selbstverständlicher und kompetenter Umgang mit dem Thema geschl
 echtliche Vielfalt möglich ist. Alle Fragen sind willkommen!\n\nMit Né Fink
 , systemischer Berater und Trainer für geschlechtliche Vielfalt
LOCATION:Online
DTSTAMP:20260220T102933Z
DTSTART:20260527T140000Z
DTEND:20260527T153000Z
END:VEVENT
END:VCALENDAR
