BEGIN:VCALENDAR
VERSION:2.0
PRODID:https://github.com/derhansen/sf_event_mgt
METHOD:PUBLISH
BEGIN:VEVENT
UID:396-5421@www.hs-emden-leer.de
CLASS: PUBLIC
SUMMARY:Warum ist feministische Wissenschafts- und Technikforschung wichtig
 ?
DESCRIPTION:Ein Vortrag von Anja Trittelvitz, Heike Gerdes und Prof. Dr. Si
 lja Samerski\n\nDie feministische Wissenschafts- und Technikforschung stell
 t Fragen, die so manche unerschütterliche Gewissheit ins Wanken bringen – s
 o z.B. die Annahme, Wissenschaft würde „objektives“ und damit allgemeingült
 iges Wissen produzieren. Im September 2021 ist an der Hochschule Emden/Leer
  das Projekt ‚STePOn‘ gestartet, das untersucht, wie vermeintlich „objektiv
 es Wissen“ bei Gesundheits-Apps hergestellt und interpretiert wird. Wie übe
 rsetzen Programmierer*innen medizinisches Wissen in die App? Wie deuten Nut
 zer*innen die Ergebnisse der App und was glauben sie, wie die Ergebnisse zu
 stande gekommen sind? Die Projektleiterin und zwei Mitarbeiterinnen werden 
 in das Projekt einführen und erläutern, warum feministische Wissenschafts- 
 und Technikforschung nicht nur spannend, sondern auch für Wissenschaft und 
 Gesellschaft wichtig ist.\n\nDie Veranstaltung ist für alle Interessierten 
 ohne Anmeldung geöffnet.\n\nDies ist eine Veranstaltung im Rahmen des GENDE
 Rmai 2022.
LOCATION:Campus Emden
DTSTAMP:20220412T090226Z
DTSTART:20220427T150000Z
DTEND:20220427T163000Z
END:VEVENT
END:VCALENDAR
